BEGIN:VCALENDAR
VERSION:2.0
PRODID:-//ChamberMaster//Event Calendar 2.0//EN
METHOD:PUBLISH
X-PUBLISHED-TTL:P3D
REFRESH-INTERVAL:P3D
CALSCALE:GREGORIAN
BEGIN:VEVENT
DTSTART;VALUE=DATE:20210605
DTEND;VALUE=DATE:20210606
TRANSP:TRANSPARENT
X-MICROSOFT-CDO-ALLDAYEVENT:TRUE
SUMMARY:2021 Possum Pedal
DESCRIPTION:Who is ready to ride?!?!?! \n\nThe routes take you through some of the most beautiful\, scenic country in Texas. There are 6 different lengths to chose from so make sure you get registered for your favorite route and do not miss Possum Pedal 2021!!
X-ALT-DESC;FMTTYPE=text/html:<font face="arial"><span style="font-size: 14px\;">&nbsp\;Who is ready to ride?!?!?!&nbsp\;</span></font><br />\nThe routes take you through some of the most beautiful\, scenic country in Texas. There are 6 different lengths to chose from so make sure you get registered for your favorite route and do not miss Possum Pedal 2021!!
LOCATION:608 Elm Street Graham\, Texas 76450
UID:e.778.1247
SEQUENCE:3
DTSTAMP:20260422T193417Z
URL:https://chamber.grahamtexas.net/events/details/2021-possum-pedal-1247
END:VEVENT

END:VCALENDAR
