BEGIN:VCALENDAR
VERSION:2.0
PRODID:-//ChamberMaster//Event Calendar 2.0//EN
METHOD:PUBLISH
X-PUBLISHED-TTL:P3D
REFRESH-INTERVAL:P3D
CALSCALE:GREGORIAN
BEGIN:VEVENT
DTSTART:20211116T174500Z
DTEND:20211116T190000Z
X-MICROSOFT-CDO-ALLDAYEVENT:FALSE
SUMMARY:2021 November Luncheon
DESCRIPTION:Join us for the final luncheon of 2021! Graham Savings & Loan will be getting in the spirt of giving and showing us their "Favorite Things" from shopping local. Giveaways you do not want to miss! Come and get in the Holiday Spirit!
X-ALT-DESC;FMTTYPE=text/html:<font face="arial\, sans-serif"><span style="font-size: 13.3333px\;">Join us for the final luncheon of 2021! Graham Savings &amp\; Loan will be getting in the spirt of giving and showing us their &quot\;Favorite Things&quot\; from shopping local. Giveaways you do not want to miss! Come and get in the Holiday Spirit!&nbsp\;</span></font>
LOCATION:NCTC 928 Cherry Street Graham\, Texas 76450
UID:e.778.1246
SEQUENCE:3
DTSTAMP:20260421T111027Z
URL:https://chamber.grahamtexas.net/events/details/2021-november-luncheon-1246
END:VEVENT

END:VCALENDAR
