BEGIN:VCALENDAR
VERSION:2.0
PRODID:-//ChamberMaster//Event Calendar 2.0//EN
METHOD:PUBLISH
X-PUBLISHED-TTL:P3D
REFRESH-INTERVAL:P3D
CALSCALE:GREGORIAN
BEGIN:VEVENT
DTSTART:20210309T174500Z
DTEND:20210309T190000Z
X-MICROSOFT-CDO-ALLDAYEVENT:FALSE
SUMMARY:2021 March Quarterly Luncheon
DESCRIPTION:Join us for our first Quarterly Luncheon of the year\n\nWe will be hearing from Brandon Anderson\, City Manager and \n\nShana Weatherbee Wolfe with Weatherbee Real Estate
X-ALT-DESC;FMTTYPE=text/html:<font face="arial\, sans-serif"><span style="font-size: 13.3333px\;">Join us for our first Quarterly Luncheon of the year<br />\nWe will be hearing from Brandon Anderson\, City Manager and&nbsp\;<br />\nShana Weatherbee Wolfe with Weatherbee Real Estate</span></font>
LOCATION:North Central Texas College 928 Cherry Street
UID:e.778.1244
SEQUENCE:3
DTSTAMP:20260423T235311Z
URL:https://chamber.grahamtexas.net/events/details/2021-march-quarterly-luncheon-1244
END:VEVENT

END:VCALENDAR
