BEGIN:VCALENDAR
VERSION:2.0
PRODID:-//ChamberMaster//Event Calendar 2.0//EN
METHOD:PUBLISH
X-PUBLISHED-TTL:P3D
REFRESH-INTERVAL:P3D
CALSCALE:GREGORIAN
BEGIN:VEVENT
DTSTART:20211203T000000Z
DTEND:20211203T023000Z
X-MICROSOFT-CDO-ALLDAYEVENT:FALSE
SUMMARY:2021 Hot Chocolicious Competition
DESCRIPTION:Join Graham Jr. High's Entrepreneurs as they setup business on the Downtown Square and sell their own brand of Hot Cocoa!  Students applied and were selected to participate in the Fifth Annual Hot Chocolicious Competetition.  After successfully completing a full day of training where local business leaders taught lessons in marketing\, budgeting\, financing\, customer service and more\, students then presented their business plans to local "Sharks" and began their businesses.\n\nALL PROCEEDS FROM THE SALES OF THEIR HOT COCOA AND OTHER ITEMS WILL BE DONATED TO THE LOCAL NON PROFIT OF THEIR CHOICE.\n\n\n\nVISIT THEIR BOOTHS ON THE SQUARE DURING THE STROLL TO HELP PROMOTE ENTREPRENEURISM IN GRAHAM.
X-ALT-DESC;FMTTYPE=text/html:Join Graham Jr. High&#39\;s Entrepreneurs as they setup business on the Downtown Square and sell their own brand of Hot Cocoa!&nbsp\; Students applied and were selected to participate in the Fifth Annual Hot Chocolicious Competetition.&nbsp\; After successfully completing a full day of training where local business leaders taught lessons in marketing\, budgeting\, financing\, customer service and more\, students then presented their business plans to local &quot\;Sharks&quot\; and began their businesses.<br />\nALL PROCEEDS FROM THE SALES OF THEIR HOT COCOA AND OTHER ITEMS WILL BE DONATED TO THE LOCAL NON PROFIT OF THEIR CHOICE.<br />\n<br />\nVISIT THEIR BOOTHS ON THE SQUARE DURING THE STROLL TO HELP PROMOTE ENTREPRENEURISM IN GRAHAM.
LOCATION:Downtown Square
UID:e.778.1243
SEQUENCE:3
DTSTAMP:20260420T120821Z
URL:https://chamber.grahamtexas.net/events/details/2021-hot-chocolicious-competition-1243
END:VEVENT

END:VCALENDAR
