BEGIN:VCALENDAR
VERSION:2.0
PRODID:-//ChamberMaster//Event Calendar 2.0//EN
METHOD:PUBLISH
X-PUBLISHED-TTL:P3D
REFRESH-INTERVAL:P3D
CALSCALE:GREGORIAN
BEGIN:VEVENT
DTSTART;VALUE=DATE:20211126
DTEND;VALUE=DATE:20211218
TRANSP:TRANSPARENT
X-MICROSOFT-CDO-ALLDAYEVENT:TRUE
SUMMARY:2021 Holiday Shopping Spree
DESCRIPTION:Event Invitation\n\n2021 Holiday Shopping Spree\n\n\n\nThank you again for your support of the Chamber of Commerce and the Holiday Shopping Spree program. This campaign is designed to encourage residents and visitors to shop in Graham during the holiday season. The event will begin with a kick off event on Friday\, November 26th and run through Friday\,  December 17th at 5:00pm.  \n\nRegister online or contact the Graham Chamber of Commerce for any additional information or questions.  \n\n\n\nParticipating Merchant ($150)\n\nListed on all print advertising as a shopping location \n\nInvest Sponsor ($500)\n\n Listed on all print advertising as a shopping location * Part of television commercial on KFDK Channel 3 and KAUZ Channel 6 * Business logo prominently displayed on store poster * Social media and marquee recognition \n\n Title Sponsor ($1\,000)\n\n Listed on all print advertising as a shopping location * Part of a television commercial on KFDK Channel 3 and KAUZ Channel * Business logo BOLDLY spotlighted on store poster as a Title Sponsor * Opportunity for radio interview on the Wake-up Call with Rick and Grant on Y100.5 during the Chamber weekly spot     \n\n*Opportunity to host a live drawing at your location
X-ALT-DESC;FMTTYPE=text/html:<h1><strong><u><span style="color:#555555\;"><span style="font-family:arial\,sans-serif\;"><span style="font-size:10.0pt\;">Event Invitation</span></span></span></u></strong><br />\n<strong><span style="color:#555555\;"><span style="font-family:arial\,sans-serif\;">2021&nbsp\;Holiday Shopping Spree</span></span></strong><br />\n<br />\n<strong><span style="color:#555555\;"><span style="font-family:arial\,sans-serif\;"><span style="font-size:12.0pt\;">Thank you again for your support of the Chamber of Commerce and the Holiday Shopping Spree program. This campaign is designed to encourage residents and visitors to shop in Graham during the holiday season. The event will begin with a kick off event on Friday\, November 26th&nbsp\;and run through Friday\,&nbsp\; December 17th at 5:00pm.&nbsp\;&nbsp\;</span></span></span></strong><br />\n<span style="color:#555555\;"><span style="font-family:arial\,sans-serif\;"><span style="font-size:10.5pt\;">Register online or contact the Graham Chamber of Commerce for any additional information or questions.&nbsp\; </span></span></span><br />\n<br />\n<strong><span style="color:red\;"><span style="font-size:10.5pt\;">Participating Merchant ($150)</span></span></strong><br />\n<span style="color:#555555\;"><span style="font-size:10.5pt\;">Listed on all print advertising as a shopping location </span></span><br />\n<strong><span style="color:red\;"><span style="font-size:10.5pt\;">Invest Sponsor ($500)</span></span></strong><br />\n<span style="color:#555555\;"><span style="font-size:10.5pt\;">&nbsp\;Listed on all print advertising as a shopping location * Part of television commercial on KFDK Channel 3 and KAUZ Channel 6 * Business logo prominently displayed on&nbsp\;store poster * Social media and marquee recognition&nbsp\;</span></span><br />\n&nbsp\;<strong><span style="color:red\;"><span style="font-size:10.5pt\;">Title Sponsor ($1\,000)</span></span></strong><br />\n<span style="color:#555555\;"><span style="font-size:10.5pt\;">&nbsp\;Listed on all print advertising as a shopping location * Part of a television commercial on KFDK Channel 3 and KAUZ Channel *&nbsp\;Business logo BOLDLY spotlighted on store poster as a Title Sponsor * Opportunity for radio interview on the Wake-up Call with Rick and Grant&nbsp\;</span></span><span style="font-size:10.5pt\;">on Y100.5 during the Chamber weekly spot</span><span style="font-size: 13px\;">&nbsp\; &nbsp\; &nbsp\;<br />\n*Opportunity to host a live drawing at your location&nbsp\;&nbsp\;</span></h1>\n\n<h1><br />\n&nbsp\;<br />\n&nbsp\;</h1>\n
LOCATION:
UID:e.778.1242
SEQUENCE:3
DTSTAMP:20260420T054952Z
URL:https://chamber.grahamtexas.net/events/details/2021-holiday-shopping-spree-1242
END:VEVENT

END:VCALENDAR
