BEGIN:VCALENDAR
VERSION:2.0
PRODID:-//ChamberMaster//Event Calendar 2.0//EN
METHOD:PUBLISH
X-PUBLISHED-TTL:P3D
REFRESH-INTERVAL:P3D
CALSCALE:GREGORIAN
BEGIN:VEVENT
DTSTART:20120605T130000Z
DTEND:20120605T130000Z
X-MICROSOFT-CDO-ALLDAYEVENT:FALSE
SUMMARY:2012 Chamber Breakfast
DESCRIPTION:Graham Chamber of Commerce Breakfast and Ribbon Cutting
X-ALT-DESC;FMTTYPE=text/html:Graham Chamber of Commerce Breakfast and Ribbon Cutting
LOCATION:Graham Chamber of Commerce Breakfast and Ribbon Cutting\, Tuesday June 5th at Revel Manor 700 Cherry Street\, Graham\, Texas\, Join us for Communications\, Contacts and Connections. Cost $7 each Reservations due by June 1st. For Reservations call 940-549-3355 or email info@grahamtxchamber.com Sponsored by Beyond Faith Click here to edit...
UID:e.778.55
SEQUENCE:3
DTSTAMP:20260423T114606Z
URL:https://chamber.grahamtexas.net/events/details/2012-chamber-breakfast-55
END:VEVENT

END:VCALENDAR
