BEGIN:VCALENDAR
VERSION:2.0
PRODID:-//ChamberMaster//Event Calendar 2.0//EN
METHOD:PUBLISH
X-PUBLISHED-TTL:P3D
REFRESH-INTERVAL:P3D
CALSCALE:GREGORIAN
BEGIN:VEVENT
DTSTART:20110819T130000Z
DTEND:20110819T160000Z
X-MICROSOFT-CDO-ALLDAYEVENT:FALSE
SUMMARY:2011 Teacher Appreciation Breakfast
DESCRIPTION:Teacher Appreciation Breakfast\n\n\n\nPromote your business to the largest pool of employees in our community. \n\n\n\nNot only is education the key to a bright future\, it is also a driving force in our local economy with a $14.5 annual payroll and 375 employees. \n\n \n\nBe part of our community's educational excellence\, sponsor online or provide a goody bag item or door prize gift.\n\n \n\nIf you have donation items\, please bring them to the Chamber by August 15\, 2011 at noon.  Should you have any questions\, please contact the Graham Chamber of Commerce at \n\n940-549-3355.
X-ALT-DESC;FMTTYPE=text/html:<u><strong>Teacher Appreciation Breakfast</strong></u><br />\n<br />\n<span style="font-family: arial\,sans-serif"><span style="font-size: medium">Promote your business to the largest pool of employees in our community. </span></span><br />\n<br />\n<span style="font-size: 11pt"><span style="font-family: arial\,sans-serif">Not only is education the key to a bright future\, it is also a driving force in our local economy with a $14.5 annual payroll and 375 employees. </span></span><br />\n&nbsp\;<br />\n<span style="font-size: 11pt"><span style="font-family: arial\,sans-serif">Be part of our community&rsquo\;s educational excellence\, sponsor online or provide a goody bag item or door prize gift.</span></span><br />\n&nbsp\;<br />\n<span style="font-size: 11pt"><span style="font-family: arial\,sans-serif">If you have donation items\, please bring them to the Chamber by August 15\, 2011 at noon.&nbsp\; Should you have any questions\, please contact the Graham Chamber of Commerce at </span></span><br />\n<span style="font-size: 11pt"><span style="font-family: arial\,sans-serif">940-549-3355.</span></span><br />\n
LOCATION:
UID:e.778.35
SEQUENCE:3
DTSTAMP:20260424T034644Z
URL:https://chamber.grahamtexas.net/events/details/2011-teacher-appreciation-breakfast-08-19-2011-35
END:VEVENT

END:VCALENDAR
