BEGIN:VCALENDAR
VERSION:2.0
PRODID:-//ChamberMaster//Event Calendar 2.0//EN
METHOD:PUBLISH
X-PUBLISHED-TTL:P3D
REFRESH-INTERVAL:P3D
CALSCALE:GREGORIAN
BEGIN:VEVENT
DTSTART:20111025T160000Z
DTEND:20111025T180000Z
X-MICROSOFT-CDO-ALLDAYEVENT:FALSE
SUMMARY:2011 Social Media Training: Fishing with a Net
DESCRIPTION:A Hands-on Social Media How-To \n\n \n\n\n\nHands-on training series will help you:\n\n  Set up and manage Facebook\, Twitter\, Foursquare\, YouTube and others\n\n  Learn how to use tweets\, blogs\, message boards and instant messaging\n\n  Drive web traffic to your pages\, sites and blogs\n\n  Create a social media strategy to increase your company's exposure & sales\n\n \n\nParticipants must bring their own laptop with wireless connectivity.
X-ALT-DESC;FMTTYPE=text/html:&nbsp\;<span style="font-weight: bold\; language: en-us"><span style="font-size: 16pt"><span style="color: #0033cc"><span style="font-family: arial black">A Hands-on Social Media How-To&nbsp\;</span></span></span></span><br />\n&nbsp\;<br />\n<br />\n<span style="font-weight: bold\; language: en-us"><span style="color: black"><span style="font-family: arial">Hands-on training series will help you:</span></span></span><br />\n<span style="unicode-bidi: embed\; direction: ltr\; language: x-none"><span style="font-size: 10pt"><span style="color: black"><span style="font-family: symbol">&middot\;</span></span></span></span>&nbsp\;<span style="language: en-us"><span style="color: black"><span style="font-family: arial">Set up and manage Facebook\, Twitter\, Foursquare\, YouTube and others</span></span></span><br />\n<span style="unicode-bidi: embed\; direction: ltr\; language: x-none"><span style="font-size: 10pt"><span style="color: black"><span style="font-family: symbol">&middot\;</span></span></span></span>&nbsp\;<span style="language: en-us"><span style="color: black"><span style="font-family: arial">Learn how to use tweets\, blogs\, message boards and instant messaging</span></span></span><br />\n<span style="unicode-bidi: embed\; direction: ltr\; language: x-none"><span style="font-size: 10pt"><span style="color: black"><span style="font-family: symbol">&middot\;</span></span></span></span>&nbsp\;<span style="language: en-us"><span style="color: black"><span style="font-family: arial">Drive web traffic to your pages\, sites and blogs</span></span></span><br />\n<span style="unicode-bidi: embed\; direction: ltr\; language: x-none"><span style="font-size: 10pt"><span style="color: black"><span style="font-family: symbol">&middot\;</span></span></span></span>&nbsp\;<span style="language: en-us"><span style="color: black"><span style="font-family: arial">Create a social media strategy to increase your company&rsquo\;s exposure &amp\; sales</span></span></span><br />\n&nbsp\;<br />\n<span style="font-weight: bold\; language: en-us"><span style="font-size: 11pt"><span style="color: #c00000"><span style="font-family: arial">Participants must bring their own laptop with wireless connectivity.</span></span></span></span><br />\n&nbsp\;<br />\n
LOCATION:Chamber Board Room 608 Elm St. Sign up now Only 15 slots avaialbe
UID:e.778.48
SEQUENCE:3
DTSTAMP:20260423T223353Z
URL:https://chamber.grahamtexas.net/events/details/2011-social-media-training-fishing-with-a-net-10-25-2011-48
END:VEVENT

END:VCALENDAR
