BEGIN:VCALENDAR
VERSION:2.0
PRODID:-//ChamberMaster//Event Calendar 2.0//EN
METHOD:PUBLISH
X-PUBLISHED-TTL:P3D
REFRESH-INTERVAL:P3D
CALSCALE:GREGORIAN
BEGIN:VEVENT
DTSTART;VALUE=DATE:20110704
DTEND;VALUE=DATE:20110705
TRANSP:TRANSPARENT
X-MICROSOFT-CDO-ALLDAYEVENT:TRUE
SUMMARY:2011 Red White & You
DESCRIPTION:Make plans to stay in Graham on July 4th \n\nEvery year the Chamber organizes a Red\, White and You Celebration on the Downtown Square.  This year the Chamber is improving the event\, making it a fun-filled\, day-long celebration of all things American.  \n\n \n\nThe Kiwanis Pancake breakfast\n\n6 a.m. to noon\, American Legion Building\, 608 Elm St. \n\n \n\nPossum Pedal Ride\n\n8 a.m.\, Oak & 3rd Streets\n\n \n\nAmerican Volunteer Reserve\n\n10:30 a.m.\, Courthouse Gazebo\, Downtown Graham\n\n \n\nTexas Sprit Art Show & Lake Country Amateur Art Show \n\n9 a.m. to 4 p.m. Old Post Office Museum and Art Center\n\n \n\nLake Country Amateur Art Show\n\n10 a.m. to 5 p.m.\n\n \n\nRed\, White and You Parade -- "Spirit of 1776" parade theme\n\n12 p.m.\, Downtown Square in Graham
X-ALT-DESC;FMTTYPE=text/html:<strong><span style="font-size: 12pt"><span style="font-family: times new roman\,serif">Make plans to stay in Graham on July 4<sup>th</sup> </span></span></strong><br />\n<span style="font-size: 12pt"><span style="font-family: times new roman\,serif">Every year the Chamber organizes a Red\, White and You Celebration on the Downtown Square.&nbsp\; This year the Chamber is improving the event\, making it a fun-filled\, day-long celebration of all things American.&nbsp\; </span></span><br />\n&nbsp\;<br />\n<strong><span style="font-size: 12pt"><span style="font-family: times new roman\,serif">The Kiwanis Pancake breakfast</span></span></strong><br />\n<em><span style="font-size: 12pt"><span style="font-family: times new roman\,serif">6 a.m. to noon\, American Legion Building\, 608 Elm St. </span></span></em><br />\n&nbsp\;<br />\n<strong><span style="font-size: 12pt"><span style="font-family: times new roman\,serif">Possum Pedal Ride</span></span></strong><br />\n<em><span style="font-size: 12pt"><span style="font-family: times new roman\,serif">8 a.m.\, Oak &amp\; 3<sup>rd</sup> Streets</span></span></em><br />\n&nbsp\;<br />\n<strong><span style="font-size: 12pt"><span style="font-family: times new roman\,serif">American Volunteer Reserve</span></span></strong><br />\n<em><span style="font-size: 12pt"><span style="font-family: times new roman\,serif">10:30 a.m.\, Courthouse Gazebo\, Downtown Graham</span></span></em><br />\n&nbsp\;<br />\n<strong><span style="font-size: 12pt"><span style="font-family: times new roman\,serif">Texas Sprit Art Show &amp\; Lake Country Amateur Art Show </span></span></strong><br />\n<em><span style="font-size: 12pt"><span style="font-family: times new roman\,serif">9 a.m. to 4 p.m. Old Post Office Museum and Art Center</span></span></em><br />\n&nbsp\;<br />\n<strong><span style="font-size: 12pt"><span style="font-family: times new roman\,serif">Lake Country Amateur Art Show</span></span></strong><br />\n<em><span style="font-size: 12pt"><span style="font-family: times new roman\,serif">10 a.m. to 5 p.m.</span></span></em><br />\n&nbsp\;<br />\n<strong><span style="font-size: 12pt"><span style="font-family: times new roman\,serif">Red\, White and You Parade -- &quot\;Spirit of 1776&quot\; parade theme</span></span></strong><br />\n<em><span style="font-size: 12pt"><span style="font-family: times new roman\,serif">12 p.m.\, Downtown Square in Graham</span></span></em><br />\n&nbsp\;<br />\n
LOCATION:
UID:e.778.30
SEQUENCE:3
DTSTAMP:20260424T034710Z
URL:https://chamber.grahamtexas.net/events/details/2011-red-white-you-07-04-2011-30
END:VEVENT

END:VCALENDAR
