BEGIN:VCALENDAR
VERSION:2.0
PRODID:-//ChamberMaster//Event Calendar 2.0//EN
METHOD:PUBLISH
X-PUBLISHED-TTL:P3D
REFRESH-INTERVAL:P3D
CALSCALE:GREGORIAN
BEGIN:VEVENT
DTSTART:20110808T170000Z
DTEND:20110808T180000Z
X-MICROSOFT-CDO-ALLDAYEVENT:FALSE
SUMMARY:2011 Quarterly Chamber Luncheon\, August 8\,2011
DESCRIPTION:Quarterly Chamber Luncheon\n\n\n\nTopic:  The Key to Rural Economic Vitality\n\nLearn about how the state's third largest industry impacts Graham and how we can utilize it.
X-ALT-DESC;FMTTYPE=text/html:<br />\n<br />\n<strong>Quarterly Chamber Luncheon</strong><br />\n<br />\nTopic:&nbsp\; <strong>The Key to Rural Economic Vitality</strong><br />\nLearn about how the&nbsp\;state&#39\;s&nbsp\;third largest industry impacts Graham&nbsp\;and how we can utilize it.
LOCATION:
UID:e.778.33
SEQUENCE:3
DTSTAMP:20260424T021515Z
URL:https://chamber.grahamtexas.net/events/details/2011-quarterly-chamber-luncheon-august-8-2011-33
END:VEVENT

END:VCALENDAR
