BEGIN:VCALENDAR
VERSION:2.0
PRODID:-//ChamberMaster//Event Calendar 2.0//EN
METHOD:PUBLISH
X-PUBLISHED-TTL:P3D
REFRESH-INTERVAL:P3D
CALSCALE:GREGORIAN
BEGIN:VEVENT
DTSTART:20111114T180000Z
DTEND:20111114T190000Z
X-MICROSOFT-CDO-ALLDAYEVENT:FALSE
SUMMARY:2011 Nov. 14 Luncheon
DESCRIPTION:Learn about the Texas Forts Trail and what it means to Young County's economy.\n\n\n\nTexas Forts Trail Director Margaret Hoogstra\, will talk about the Trail\, Fort Belknap's significance to Frontier Texas and how heritage tourism boosts Young County's economy.
X-ALT-DESC;FMTTYPE=text/html:Learn about the Texas Forts Trail and what it means to Young County&#39\;s economy.<br />\n<br />\nTexas Forts Trail Director Margaret Hoogstra\, will talk about the Trail\, Fort Belknap&#39\;s significance to Frontier Texas and how heritage tourism boosts Young County&#39\;s economy. 
LOCATION:American Legion Building 608 Elm St.
UID:e.778.49
SEQUENCE:3
DTSTAMP:20260423T205906Z
URL:https://chamber.grahamtexas.net/events/details/2011-nov-14-luncheon-11-14-2011-49
END:VEVENT

END:VCALENDAR
