BEGIN:VCALENDAR
VERSION:2.0
PRODID:-//ChamberMaster//Event Calendar 2.0//EN
METHOD:PUBLISH
X-PUBLISHED-TTL:P3D
REFRESH-INTERVAL:P3D
CALSCALE:GREGORIAN
BEGIN:VEVENT
DTSTART:20110509T170000Z
DTEND:20110509T180000Z
X-MICROSOFT-CDO-ALLDAYEVENT:FALSE
SUMMARY:2011 May Chamber Luncheon & You Lead Graduation
DESCRIPTION:Graham Chamber of Commerce May Luncheon & You Lead Graduation\n\nMonday May 9th 12:00 PM @ The American Legion Building\n\nSponsored by Farmers Insurance Joe Schweighofer\n\nLunch is $10.00 per person\n\nPlease RSVP by Friday May 5th\n\n(940) 549-3355 or info@grahamtxchamber.com
X-ALT-DESC;FMTTYPE=text/html:Graham Chamber of Commerce May Luncheon &amp\; You Lead Graduation<br />\nMonday May 9th 12:00 PM @ The American Legion Building<br />\nSponsored by Farmers Insurance Joe Schweighofer<br />\nLunch is $10.00 per person<br />\nPlease RSVP by Friday May 5th<br />\n(940) 549-3355 or info@grahamtxchamber.com
LOCATION:American Legion Building
UID:e.778.29
SEQUENCE:3
DTSTAMP:20260424T061520Z
URL:https://chamber.grahamtexas.net/events/details/2011-may-chamber-luncheon-you-lead-graduation-29
END:VEVENT

END:VCALENDAR
