BEGIN:VCALENDAR
VERSION:2.0
PRODID:-//ChamberMaster//Event Calendar 2.0//EN
METHOD:PUBLISH
X-PUBLISHED-TTL:P3D
REFRESH-INTERVAL:P3D
CALSCALE:GREGORIAN
BEGIN:VEVENT
DTSTART;VALUE=DATE:20110222
DTEND;VALUE=DATE:20110223
TRANSP:TRANSPARENT
X-MICROSOFT-CDO-ALLDAYEVENT:TRUE
SUMMARY:2011 March 4 Education Kyle Sexton: Social Media Re-Boot
DESCRIPTION:Chamber Education Series: Social Media Re-Boot
X-ALT-DESC;FMTTYPE=text/html:Chamber Education Series: Social Media Re-Boot
LOCATION:NCTC Multi-purpose Room 928 Cherry St. Graham\, TX
UID:e.778.14
SEQUENCE:3
DTSTAMP:20260424T103044Z
URL:https://chamber.grahamtexas.net/events/details/2011-march-4-education-kyle-sexton-social-media-re-boot-02-22-2011-14
END:VEVENT

END:VCALENDAR
