BEGIN:VCALENDAR
VERSION:2.0
PRODID:-//ChamberMaster//Event Calendar 2.0//EN
METHOD:PUBLISH
X-PUBLISHED-TTL:P3D
REFRESH-INTERVAL:P3D
CALSCALE:GREGORIAN
BEGIN:VEVENT
DTSTART;VALUE=DATE:20110324
DTEND;VALUE=DATE:20110325
TRANSP:TRANSPARENT
X-MICROSOFT-CDO-ALLDAYEVENT:TRUE
SUMMARY:2011 Graham Day in Austin
DESCRIPTION:Make your plans to attend the Graham Day in Austin\, March 24\n\n            The Chamber has organized the event to impact specific pieces of legislation and create a greater awareness among business leaders of how strong "our" collective voice can be. The 2011 legislative trip is scheduled for Thursday\, March 24. \n\n            The event is planned as a day-trip and a luxury motor coach has been hired to take the Graham contingent to Austin for the day.  The bus ride will take approximately four hours and will leave at 6 a.m. Thursday morning. Cost of the event is $60 per person and lunch will be Dutch treat at the capitol building restaurant. The slate of speakers include representatives from:\n\n	Texas Education Agency\n	Texas Land Office\n	Texas Department of Agriculture\n	The Governor's Office on Rural Economic Development \n	The office of Senator Craig Estes\n	The office of  Representative Rick Hardcastle\n\nThe group will also be announced from the floor of the house during the session that day. \n\nSpace is limited to 36 people with a cost of $60 per person.  Contact the Chamber to book your seat at 549-3355.
X-ALT-DESC;FMTTYPE=text/html:<strong><span style="font-family: times new roman\, serif"><span style="font-size: medium">Make your plans to attend the Graham Day in Austin\, March 24</span></span></strong><br />\n<span style="font-family: times new roman\, serif"><span style="font-size: medium">&nbsp\;&nbsp\;&nbsp\;&nbsp\;&nbsp\;&nbsp\;&nbsp\;&nbsp\;&nbsp\;&nbsp\;&nbsp\; The Chamber has organized the event to impact specific pieces of legislation and create a greater awareness among business leaders of how strong &ldquo\;our&rdquo\; collective voice can be. The 2011 legislative trip is scheduled for Thursday\, <strong>March 24. </strong></span></span><br />\n<span style="font-family: times new roman\, serif"><span style="font-size: medium">&nbsp\;&nbsp\;&nbsp\;&nbsp\;&nbsp\;&nbsp\;&nbsp\;&nbsp\;&nbsp\;&nbsp\;&nbsp\; The event is planned as a day-trip and a luxury motor coach has been hired to take the Graham contingent to Austin for the day.&nbsp\; The bus ride will take approximately four hours and will leave at 6 a.m. Thursday morning. Cost of the event is $60 per person and lunch will be Dutch treat at the capitol building restaurant. The slate of speakers include representatives from:</span></span>\n<ul>\n	<li><span style="font-family: times new roman\, serif"><span style="font-size: medium">Texas Education Agency</span></span></li>\n	<li><span style="font-family: times new roman\, serif"><span style="font-size: medium">Texas Land Office</span></span></li>\n	<li><span style="font-family: times new roman\, serif"><span style="font-size: medium">Texas Department of Agriculture</span></span></li>\n	<li><span style="font-family: times new roman\, serif"><span style="font-size: medium">The Governor&rsquo\;s Office on Rural Economic Development </span></span></li>\n	<li><span style="font-family: times new roman\, serif"><span style="font-size: medium">The office of Senator Craig Estes</span></span></li>\n	<li><span style="font-family: times new roman\, serif"><span style="font-size: medium">The office of&nbsp\; Representative Rick Hardcastle</span></span></li>\n</ul>\n<span style="font-family: times new roman\, serif"><span style="font-size: medium">The group will also be announced from the floor of the house during the session that day. </span></span><br />\n<span style="font-family: times new roman\, serif"><span style="font-size: medium">Space is limited to 36 people with a cost of $60 per person.&nbsp\; Contact the Chamber to book your seat at 549-3355. </span></span>
LOCATION:
UID:e.778.16
SEQUENCE:3
DTSTAMP:20260424T090658Z
URL:https://chamber.grahamtexas.net/events/details/2011-graham-day-in-austin-16
END:VEVENT

END:VCALENDAR
