BEGIN:VCALENDAR
VERSION:2.0
PRODID:-//ChamberMaster//Event Calendar 2.0//EN
METHOD:PUBLISH
X-PUBLISHED-TTL:P3D
REFRESH-INTERVAL:P3D
CALSCALE:GREGORIAN
BEGIN:VEVENT
DTSTART:20110214T180000Z
DTEND:20110214T190000Z
X-MICROSOFT-CDO-ALLDAYEVENT:FALSE
SUMMARY:2011 Feb 14th Luncheon
DESCRIPTION:Guest Speaker: John Gonzales U.S. Chamber of Commerce\n\n\n\nSponsor: William Hysmith of Hysmith Automotive Repair
X-ALT-DESC;FMTTYPE=text/html:Guest Speaker: John Gonzales U.S. Chamber of Commerce<br />\n<br />\nSponsor: William Hysmith of Hysmith Automotive Repair
LOCATION:
UID:e.778.12
SEQUENCE:3
DTSTAMP:20260424T102953Z
URL:https://chamber.grahamtexas.net/events/details/2011-feb-14th-luncheon-02-14-2011-12
END:VEVENT

END:VCALENDAR
