BEGIN:VCALENDAR
VERSION:2.0
PRODID:-//ChamberMaster//Event Calendar 2.0//EN
METHOD:PUBLISH
X-PUBLISHED-TTL:P3D
REFRESH-INTERVAL:P3D
CALSCALE:GREGORIAN
BEGIN:VEVENT
DTSTART:20110128T003000Z
DTEND:20110128T050000Z
X-MICROSOFT-CDO-ALLDAYEVENT:FALSE
SUMMARY:2011 Annual Chamber Banquet
DESCRIPTION:Annual Chamber Banquet & Grahammy Awards\n\n\n\nInterested Participants:\n\nBackyard BBQ\n\nDairy Queen\n\nDinner Bell Cafe\n\nMonarch Catering\n\nUnited Supermarkets (2 Tables)\n\nWildcatter - Duh :)
X-ALT-DESC;FMTTYPE=text/html:Annual Chamber Banquet &amp\; Grahammy Awards<br />\n<br />\nInterested Participants:<br />\nBackyard BBQ<br />\nDairy Queen<br />\nDinner Bell Cafe<br />\nMonarch Catering<br />\nUnited Supermarkets (2 Tables)<br />\nWildcatter - Duh :)
LOCATION:Wildcatter Steak House 6062 Hwy 16 South
UID:e.778.11
SEQUENCE:3
DTSTAMP:20260424T114150Z
URL:https://chamber.grahamtexas.net/events/details/2011-annual-chamber-banquet-01-27-2011-11
END:VEVENT

END:VCALENDAR
