BEGIN:VCALENDAR
VERSION:2.0
PRODID:-//ChamberMaster//Event Calendar 2.0//EN
METHOD:PUBLISH
X-PUBLISHED-TTL:P3D
REFRESH-INTERVAL:P3D
CALSCALE:GREGORIAN
BEGIN:VEVENT
DTSTART:20110523T133000Z
DTEND:20110523T220000Z
X-MICROSOFT-CDO-ALLDAYEVENT:FALSE
SUMMARY:2011 Ambassadors Golf Tournament
DESCRIPTION:14th Annual Chamber Ambassador Golf Tournament
X-ALT-DESC;FMTTYPE=text/html:<p>\n	14th Annual Chamber Ambassador Golf Tournament</p>\n
LOCATION:Graham Country Club 156 Country Club Drive Graham\, Texas 76450
UID:e.778.17
SEQUENCE:3
DTSTAMP:20260424T074009Z
URL:https://chamber.grahamtexas.net/events/details/2011-ambassadors-golf-tournament-05-23-2011-17
END:VEVENT

END:VCALENDAR
